BEGIN:VCALENDAR
VERSION:2.0
PRODID:-//Horseheath Parish Council//Meeting Calendar//EN
CALSCALE:GREGORIAN
METHOD:PUBLISH
BEGIN:VEVENT
UID:70736-20251110@horseheath-pc.gov.uk
DTSTAMP:20260422T095735Z
DTSTART;VALUE=DATE:20251110
DTEND;VALUE=DATE:20251111
SUMMARY:Horseheath Parish Council
DESCRIPTION:Full Council Meeting\nView details: https://horseheath-pc.gov.uk/meetings/horseheath-parish-council/
URL:https://horseheath-pc.gov.uk/meetings/horseheath-parish-council/
END:VEVENT
END:VCALENDAR
