BEGIN:VCALENDAR
VERSION:2.0
PRODID:-//Horseheath Parish Council//Meeting Calendar//EN
CALSCALE:GREGORIAN
METHOD:PUBLISH
BEGIN:VEVENT
UID:70765-20260112@horseheath-pc.gov.uk
DTSTAMP:20260422T111210Z
DTSTART;VALUE=DATE:20260112
DTEND;VALUE=DATE:20260113
SUMMARY:Horseheath Parish Council Meeting 12th January 2026
DESCRIPTION:Full Council Meeting\nView details: https://horseheath-pc.gov.uk/meetings/horseheath-parish-council-meeting/
URL:https://horseheath-pc.gov.uk/meetings/horseheath-parish-council-meeting/
END:VEVENT
END:VCALENDAR
